BEGIN:VCALENDAR
VERSION:2.0
PRODID:-//wp-events-plugin.com//6.6.4.4//EN
BEGIN:VEVENT
UID:2@erickaverba.com
DTSTART;TZID=America/Los_Angeles:20250204T180000
DTEND;TZID=America/Los_Angeles:20250204T200000
DTSTAMP:20250418T183810Z
URL:https://erickaverba.com/events/california-state-university-la/
SUMMARY:California State University LA
DESCRIPTION:For more information\, please email: erickaverba@gmail.com
ATTACH;FMTTYPE=image/jpeg:https://erickaverba.com/wp-content/uploads/2024/
 12/Ericka-Cal-State-LA-IG-.jpg
LOCATION:California State University\, 5151 State University Dr\, Los Angel
 es\, California\, 90032\, United States
X-APPLE-STRUCTURED-LOCATION;VALUE=URI;X-ADDRESS=5151 State University Dr\, 
 Los Angeles\, California\, 90032\, United States;X-APPLE-RADIUS=100;X-TITL
 E=California State University:geo:0,0
END:VEVENT
BEGIN:VTIMEZONE
TZID:America/Los_Angeles
X-LIC-LOCATION:America/Los_Angeles
BEGIN:STANDARD
DTSTART:20241103T010000
TZOFFSETFROM:-0700
TZOFFSETTO:-0800
TZNAME:PST
END:STANDARD
END:VTIMEZONE
END:VCALENDAR